BEGIN:VCALENDAR
VERSION:2.0
PRODID:-//Atletiek Vereniging Spirit - ECPv6.15.20//NONSGML v1.0//EN
CALSCALE:GREGORIAN
METHOD:PUBLISH
X-WR-CALNAME:Atletiek Vereniging Spirit
X-ORIGINAL-URL:https://avspiritlelystad.nl
X-WR-CALDESC:Evenementen voor Atletiek Vereniging Spirit
REFRESH-INTERVAL;VALUE=DURATION:PT1H
X-Robots-Tag:noindex
X-PUBLISHED-TTL:PT1H
BEGIN:VTIMEZONE
TZID:Europe/Amsterdam
BEGIN:DAYLIGHT
TZOFFSETFROM:+0100
TZOFFSETTO:+0200
TZNAME:CEST
DTSTART:20240331T010000
END:DAYLIGHT
BEGIN:STANDARD
TZOFFSETFROM:+0200
TZOFFSETTO:+0100
TZNAME:CET
DTSTART:20241027T010000
END:STANDARD
BEGIN:DAYLIGHT
TZOFFSETFROM:+0100
TZOFFSETTO:+0200
TZNAME:CEST
DTSTART:20250330T010000
END:DAYLIGHT
BEGIN:STANDARD
TZOFFSETFROM:+0200
TZOFFSETTO:+0100
TZNAME:CET
DTSTART:20251026T010000
END:STANDARD
BEGIN:DAYLIGHT
TZOFFSETFROM:+0100
TZOFFSETTO:+0200
TZNAME:CEST
DTSTART:20260329T010000
END:DAYLIGHT
BEGIN:STANDARD
TZOFFSETFROM:+0200
TZOFFSETTO:+0100
TZNAME:CET
DTSTART:20261025T010000
END:STANDARD
BEGIN:DAYLIGHT
TZOFFSETFROM:+0100
TZOFFSETTO:+0200
TZNAME:CEST
DTSTART:20270328T010000
END:DAYLIGHT
BEGIN:STANDARD
TZOFFSETFROM:+0200
TZOFFSETTO:+0100
TZNAME:CET
DTSTART:20271031T010000
END:STANDARD
END:VTIMEZONE
BEGIN:VEVENT
DTSTART;TZID=Europe/Amsterdam:20251004T190000
DTEND;TZID=Europe/Amsterdam:20251004T200000
DTSTAMP:20260420T085934
CREATED:20250925T152039Z
LAST-MODIFIED:20250925T152646Z
UID:3989-1759604400-1759608000@avspiritlelystad.nl
SUMMARY:Kompassieloop 2025
DESCRIPTION:Op zaterdagavond 4 oktober 2025 organiseren we voor de 3e keer de Kompassieloop. De start is om 19:00 uur.\nEen culture wandeling door en rond het centrum van Lelystad. Laat je cultureel verrassen en kom eens op plekken in gebouwen waar je normaal niet komt. \nMaak je klaar voor een verrassende avondwandeling van ca. 5km door het centrum van Lelystad. Vertrek bij het Agora Theater\, eindigend bij Poppodium Corneel. \nOnderweg geniet je van sfeervolle optredens: muziek\, dans en culturele verrassingen passeren de revue. \nDeze hartverwarmende wandeling wordt georganiseerd door Roparunteam Flevoland en Inloophuis Passie\, met als doel aandacht en steun te genereren voor mensen met kanker\, via twee prachtige goede doelen. \nMis dit unieke moment van bezinning en verbinding niet!\nWandel je mee? Info & tickets via www.kompassieloop.nl
URL:https://avspiritlelystad.nl/evenement/kompassieloop-2025/
LOCATION:Agora theater\, Agorabaan 12\, Lelystad\, Flevoland\, 8224 JS\, Netherlands
CATEGORIES:Externe evenementen
ATTACH;FMTTYPE=image/jpeg:https://avspiritlelystad.nl/wp-content/uploads/2025/09/lelystad-zilverkade.jpg
END:VEVENT
BEGIN:VEVENT
DTSTART;TZID=Europe/Amsterdam:20251012T093000
DTEND;TZID=Europe/Amsterdam:20251012T120000
DTSTAMP:20260420T085934
CREATED:20250905T140422Z
LAST-MODIFIED:20250925T165527Z
UID:3985-1760261400-1760270400@avspiritlelystad.nl
SUMMARY:Oostvaardersrun 2025
DESCRIPTION:De Oostvaardersrun is een recreatief hardloopevenement waarbij lopers in de leeftijd vanaf 5 jaar een overwegend half / onverhard parcours kunnen afleggen door de schitterende natuur nabij Lelystad.\nZie de website voor meer info & inschrijven: https://oostvaardersrun.nl/ \nUpdate:\nDe lange afstanden zit inmiddels vol\, op de Kidsrun is nog wel ruimte!
URL:https://avspiritlelystad.nl/evenement/oostvaardersrun-2025/
LOCATION:Buitencentrum Oostvaardersplassen\, Kitsweg 1\, Lelystad\, Flevoland\, 8218 AA\, Nederland
CATEGORIES:Externe evenementen
ATTACH;FMTTYPE=image/jpeg:https://avspiritlelystad.nl/wp-content/uploads/2025/09/oostvaardersrun2023.jpg
END:VEVENT
BEGIN:VEVENT
DTSTART;TZID=Europe/Amsterdam:20260509T100000
DTEND;TZID=Europe/Amsterdam:20260509T143000
DTSTAMP:20260420T085934
CREATED:20260213T195636Z
LAST-MODIFIED:20260225T233020Z
UID:4440-1778320800-1778337000@avspiritlelystad.nl
SUMMARY:SlooOW Natuurloop 2026 – hardlopen met een groot groen hart
DESCRIPTION:Voor wie naast baan- en wegwedstrijden graag afwisseling zoekt\, is de SlooOW Natuurloop 2026 een mooi sportief moment in het voorjaar. Een toegankelijk evenement voor jong en oud\, met routes over zowel verharde als onverharde paden\, waarin tempo\, uithoudingsvermogen en loopplezier samenkomen in een afwisselend parcours door bos en natuurgebied. En je steunt ook nog een goed doel\, de Roparun! \nDatum en locatie\nOp zaterdag 9 mei 2026 organiseert Roparunteam Flevoland voor de 17e keer de SlooOW Natuurloop. Start en finish zijn bij Watersportvereniging Het Bovenwater in Lelystad. \nAfstanden en parcours\nVoor hardlopers zijn er meerdere afstanden: 2 km (Kidsrun)\, 5 km\, 10 km\, halve marathon (21 km) en de natuurmarathon (42 km). De routes lopen grotendeels over onverharde paden door het Hollandse Hout en langs de Oostvaardersplassen. \nVoor wie is deze loop\nDe SlooOW Natuurloop is geschikt voor zowel recreatieve als wedstrijdlopers die graag in de natuur lopen en hun conditie willen testen buiten de baan- en wegwedstrijden. \nGoede doel\nMet je deelname steun je Stichting Roparun\, die zich inzet voor palliatieve zorg voor mensen met kanker. Zo krijgen je loopkilometers extra betekenis! \nMeer informatie\nMeer informatie en inschrijfmogelijkheden zijn te vinden op de website van Roparunteam Flevoland. https://roparunteamflevoland.nl/activiteiten/slooow-natuurloop-2026/
URL:https://avspiritlelystad.nl/evenement/slooow-natuurloop-2026-hardlopen-met-een-groot-groen-hart/
CATEGORIES:Externe evenementen
ATTACH;FMTTYPE=image/jpeg:https://avspiritlelystad.nl/wp-content/uploads/2026/02/SlooOW-Natuurloop-Roparun.jpg
END:VEVENT
END:VCALENDAR